BEGIN:VCALENDAR
VERSION:2.0
PRODID:-//WCCM Brasil - ECPv6.15.16//NONSGML v1.0//EN
CALSCALE:GREGORIAN
METHOD:PUBLISH
X-WR-CALNAME:WCCM Brasil
X-ORIGINAL-URL:https://www.wccm.org.br
X-WR-CALDESC:Eventos para WCCM Brasil
REFRESH-INTERVAL;VALUE=DURATION:PT1H
X-Robots-Tag:noindex
X-PUBLISHED-TTL:PT1H
BEGIN:VTIMEZONE
TZID:America/Sao_Paulo
BEGIN:STANDARD
TZOFFSETFROM:-0300
TZOFFSETTO:-0300
TZNAME:-03
DTSTART:20240101T000000
END:STANDARD
END:VTIMEZONE
BEGIN:VEVENT
DTSTART;TZID=America/Sao_Paulo:20250228T170000
DTEND;TZID=America/Sao_Paulo:20250302T130000
DTSTAMP:20260425T123830
CREATED:20241019T130847Z
LAST-MODIFIED:20250207T131041Z
UID:18349-1740762000-1740920400@www.wccm.org.br
SUMMARY:IV Retiro de Meditação Cristã em Maringá
DESCRIPTION:Tema\nA doce voz do silêncio em nosso cotidiano: a paz fruto do aprofundamento do ser e do autoconhecimento\nDATA: 28 DE FEVEREIRO A 2 DE MARÇO\nLOCAL: SEMINÁRIO SANTO AGOSTINHO – MARINGÁ\, PR  \n  \n“O silêncio está lá\, dentro de nós. O que nós precisamos fazer é entrar dentro dele\, nos tornarmos silenciosos\, nos tornarmos o silêncio. O propósito da meditação e o desafio da meditação é permitir a nós mesmos que nos tornemos suficientemente silenciosos para permitir que este silêncio interior apareça. Silêncio é a linguagem do Espírito.”\nJohn Main – A Palavra que leva ao Silêncio \n\n  \nFACILITADORAS\n  \n \nDoris Maria Battistella \n  \n \nEmília Zanatto \n  \n \nCicilia Conceição de Maria \n  \n \nAna Cristina Azevedo \n  \n  \nPROGRAMAÇÃO\nSexta feira – 28 de fevereiro\n17h00-17h10: Orientações sobre o retiro\n17h10-17h40 – Comunidade Mundial de Meditação Cristã no Paraná (Doris)\n18h00- 19h00: Tempo livre para caminhada contemplativa e o pôr do sol\n19h00: Jantar\n20h00 – 20h30-Palestra 2 – Meditação Cristã – (Emília)\n21h00: Oração e Meditação- Condução Cicilia\n22h00: Repouso \n  \nSábado – 1 de março\n06h30: Tempo livre para caminhada contemplativa\n07h00: Oração da manhã e meditação – Francisco\n08h00: Café da manhã\n09h00-9h30: Palestra 2 – Entrando no silêncio (Ana Cristina)\n09h30- 10h00: Meditação – Condução Marion\n10h00-11h00: Alongamento e Intervalo\n11h00-11h30: Palestra 3 – Silêncio no cotidiano de pessoas comuns (Cicilia)\nMeditação e alongamento – Condução Zely\n12h00: Almoço\n13h00- 14h00: Tempo livre: Você e Deus\n14h00-14h30: Palestra 4 – Etapas para o silêncio e a Contemplação: aprendendo a SER (Cicilia)\n14h30-15h00: Meditação\n16h00: Alongamento e tempo livre\n17h00: Missa/Celebração\n18h00: Tempo livre para caminhada contemplativa (natureza e Por do Sol)\n19h00: Jantar\n20h00: Filme\n21h00: Oração e Meditação- Condução- Doris Batistela \n  \nDomingo – 2 de março\n06h30: Tempo livre para caminhada contemplativa\n07h00: Oração da manhã e meditação – Zely\n08h00: Café da manhã\n09h00: Palestra 6 – Oração silenciosa e vida contemplativa (Ana Cristina)\n09h30: Meditação : Condução Marion\n10h00: Perguntas e partilhas\n11h00: Missa\n12h00: Almoço\n13h00: Encerramento e foto \n  \nINSCRIÇÕES\n1º Lote: até 30/nov/2024\nR$ 520\,00 à vista ou 4x R$ 150\,00 \n2º Lote: 1/dez/2024 a 1/jan/2025\nR$ 640\,00 à vista ou 3x R$ 233\,34 \n3º Lote: 2/jan a 2/fev/2025\nR$ 700\,00 à vista ou 2x R$ 400\,00 \n4º Lote: 3/fev a 25/fev/2025\nR$ 850\,00 à vista \nPreencha o formulário e escolha a forma de pagamento: https://forms.gle/qVHfgmFqNfTgJcQN7 \n  \nInformações com Cicilia: 44 99951-5981
URL:https://www.wccm.org.br/evento/iv-retiro-de-meditacao-crista-em-maringa/
LOCATION:Seminário Santo Agostinho\, Avenida João Pereira\, 1027\, Parque Industrial Bandeirantes\, Maringá\, PR\, 87070-010\, Brasil
CATEGORIES:Retiro
ATTACH;FMTTYPE=image/jpeg:https://www.wccm.org.br/wp-content/uploads/2024/10/seminario-santo-agostinho2.jpg
END:VEVENT
END:VCALENDAR