BEGIN:VCALENDAR
VERSION:2.0
PRODID:-//WCCM Brasil - ECPv6.15.16//NONSGML v1.0//EN
CALSCALE:GREGORIAN
METHOD:PUBLISH
X-WR-CALNAME:WCCM Brasil
X-ORIGINAL-URL:https://www.wccm.org.br
X-WR-CALDESC:Eventos para WCCM Brasil
REFRESH-INTERVAL;VALUE=DURATION:PT1H
X-Robots-Tag:noindex
X-PUBLISHED-TTL:PT1H
BEGIN:VTIMEZONE
TZID:America/Sao_Paulo
BEGIN:STANDARD
TZOFFSETFROM:-0300
TZOFFSETTO:-0300
TZNAME:-03
DTSTART:20240101T000000
END:STANDARD
END:VTIMEZONE
BEGIN:VEVENT
DTSTART;TZID=America/Sao_Paulo:20250413T190000
DTEND;TZID=America/Sao_Paulo:20250420T190000
DTSTAMP:20260422T091513
CREATED:20250413T151015Z
LAST-MODIFIED:20250413T151600Z
UID:19273-1744570800-1745175600@www.wccm.org.br
SUMMARY:Meditação na Semana Santa 2025
DESCRIPTION:Convidamos a todos viver a Semana Santa com profundidade e silêncio\, por meio de encontros de meditação ao vivo\, todos os dias às 19h00 pelo Zoom. \nInspirados na tradição contemplativa\, queremos cultivar juntos a escuta do coração\, a presença orante e o silêncio que abre espaço para Deus. \nPeríodo: 13 a 20 de abril (Domingo de Ramos ao Domingo de Páscoa)\nHorário: 19h00\nLink da sala Zoom:\nhttps://us06web.zoom.us/j/83517763289?pwd=noQ3IYtb7JF0OnAl4hDEoMtZLasghU.1\nID da reunião: 835 1776 3289\nSenha: wccm2025 \nVamos juntos atravessar essa semana sagrada com espírito de contemplação e comunhão. \nCom carinho\, \nWCCM Brasil
URL:https://www.wccm.org.br/evento/meditacao-na-semana-santa-2025/
LOCATION:Online
CATEGORIES:Encontro
ATTACH;FMTTYPE=image/jpeg:https://www.wccm.org.br/wp-content/uploads/2025/04/Semana_Santa1.jpg
END:VEVENT
END:VCALENDAR